View In:
ArcGIS JavaScript
ArcGIS Online Map Viewer
ArcGIS Earth
ArcGIS Pro
Service Description: donnees_socle.urbanisme.dealm_plu_zonage_fusion_s
Map Name: Publication
Legend
All Layers and Tables
Dynamic Legend
Dynamic All Layers
Layers:
Description: donnees_socle.urbanisme.dealm_plu_zonage_fusion_s
Service Item Id: 35f578a38e5b4b58a1041c38954c5741
Copyright Text: GPU, DEALM
Spatial Reference:
102100
(3857)
LatestVCSWkid(0)
Single Fused Map Cache: true
Tile Info:
- Height: 256.0
- Width: 256.0
- DPI: 96.0
-
Levels of Detail: 24
-
Level ID: 1
[ Start Tile, End Tile ]
- Resolution: 78271.5169639999
- Scale: 2.95828763795777E8
-
Level ID: 2
[ Start Tile, End Tile ]
- Resolution: 39135.7584820001
- Scale: 1.47914381897889E8
-
Level ID: 3
[ Start Tile, End Tile ]
- Resolution: 19567.8792409999
- Scale: 7.3957190948944E7
-
Level ID: 4
[ Start Tile, End Tile ]
- Resolution: 9783.93962049996
- Scale: 3.6978595474472E7
-
Level ID: 5
[ Start Tile, End Tile ]
- Resolution: 4891.96981024998
- Scale: 1.8489297737236E7
- Format: PNG
- Compression Quality: 0.0
- Origin: X: -2.0037508342787E7
Y: 2.0037508342787E7
- Spatial Reference: 102100
(3857)
LatestVCSWkid(0)
Storage Info:
- Storage Format: esriMapCacheStorageModeCompactV2
- Packet Size: 128
Initial Extent:
XMin: 5003437.561081942
YMin: -1452934.9499931764
XMax: 5034807.123966379
YMax: -1409577.0777127012
Spatial Reference: 102100
(0)
LatestVCSWkid(0)
Full Extent:
XMin: 3.1638902212669554E-9
YMin: -3.0240971958386146E7
XMax: 1.001875417139461E7
YMax: 3.024097195838615E7
Spatial Reference: 102100
(0)
LatestVCSWkid(0)
Units: esriMeters
Supported Image Format Types: PNG32,PNG24,PNG,JPG,DIB,TIFF,EMF,PS,PDF,GIF,SVG,SVGZ,BMP
Document Info:
Title: S:\PRODUCTIONS\4_Traitements internes\_Gestion générale EPF-BDD et GeoEPFAM\Gestion EPF-BDD et GeoEPFAM.aprx
Author:
Comments:
Subject:
Category:
Keywords: urbanisme,mayotte,PLU
AntialiasingMode: Fast
TextAntialiasingMode: Force
Supports Dynamic Layers: true
MaxRecordCount: 2000
MaxSelectionCount: 2000
MaxImageHeight: 4096
MaxImageWidth: 4096
Supported Query Formats: JSON, geoJSON, PBF
Supports Query Data Elements: true
Min Scale: 144447.638572
Max Scale: 141.062147
Supports Datum Transformation: true
Child Resources:
Info
Dynamic Layer
Supported Operations:
Export Map
Identify
QueryLegends
QueryDomains
Find
EstimateExportTilesSize
ExportTiles
Return Updates